BEGIN:VCALENDAR
VERSION:2.0
PRODID:-//Magischer Zirkel Würzburg-Ansbach e.V. - FrankenMagisch - ECPv6.15.20//NONSGML v1.0//EN
CALSCALE:GREGORIAN
METHOD:PUBLISH
X-ORIGINAL-URL:https://frankenmagisch.de
X-WR-CALDESC:Veranstaltungen für Magischer Zirkel Würzburg-Ansbach e.V. - FrankenMagisch
REFRESH-INTERVAL;VALUE=DURATION:PT1H
X-Robots-Tag:noindex
X-PUBLISHED-TTL:PT1H
BEGIN:VTIMEZONE
TZID:UTC
BEGIN:STANDARD
TZOFFSETFROM:+0000
TZOFFSETTO:+0000
TZNAME:UTC
DTSTART:20230101T000000
END:STANDARD
END:VTIMEZONE
BEGIN:VEVENT
DTSTART;TZID=UTC:20240307T190000
DTEND;TZID=UTC:20240307T220000
DTSTAMP:20260421T122400
CREATED:20240124T163154Z
LAST-MODIFIED:20240124T174018Z
UID:991-1709838000-1709848800@frankenmagisch.de
SUMMARY:Seminar mit Silly Billy am 07.03.2024
DESCRIPTION:  \nDer Amerikaner David Kaye\, besser bekannt als Silly Billy\, ist bereits im Weißen Haus aufgetreten\, wurde zum New Yorker Magier des Jahres ernannt und ist der einzige Kinderzauberer in der Geschichte\, der mit dem „Performing Fellowship Award“ von der Academy of Magical Arts (Magic Castle) geehrte wurde. \nNun kommt er mit seinem Seminar nach Deutschland! \nIm Mittelpunkt steht die Zauberkunst für Kinder.  \nNeben Kunststücken erklärt er auch die Theorie und Psychologie hinter den Kinderzaubershows. \nSelbst wenn man nicht explizit Kindershows anbietet\, wird dieses Seminar eine Bereicherung für jeden sein. David wird verraten\, wie man es schafft\, Folgebuchungen zu generieren. In Bezug auf die Kinderzauberei wird er erklären\, wie man die Psychologie der Kinder nutzen kann\, sodass sie Ihre Show lieben werden und Sie und Ihre Show immer und immer und immer wieder sehen wollen! \nEin Punkt um dies zu erreichen ist es\, die Interaktionen mit den Kindern in den eigenen Routinen zu erhöhen. David Kaye wird seine Geheimtipps in diesem Seminar dazu preisgeben. \n  \n\nWir treffen uns ab 18:15 im Ratskeller zu einem gemütlichen Essen a la carte und genießen danach das Seminar \nUm besser planen zu können\, ist eine Anmeldung erforderlich. Bitte per Mail an zirkelabende@frankenmagisch.de eine kurze Mitteilung schreiben oder hier das Kontaktformular ausfüllen\, das per Mail verschickt wird: \nBitte aktiviere JavaScript in deinem Browser\, um dieses Formular fertigzustellen.Name *VornameNachnameE-Mail-Adresse (Falls noch nicht bekannt\, bei Gästen)An folgenden Zirkelabenden nehme ich teil:16.04. Ballonzauber zwischen Kunst und KnallGerne kannst Du die Abende angeben\, an denen Du sicher kommst. Änderungen sind natürlich jederzeit möglich. Dazu bitte einfach hier erneut absenden oder eine Mail an Zirkelabende@frankenmagisch.deAbsenden  \n 
URL:https://frankenmagisch.de/zirkelabend/seminar-mit-silly-billy-am-07-03-2024/
LOCATION:Ratskeller Veitshöchheim\, Erwin-Vornberger-Platz 3\, 97209 Veitshöchheim\, Veitshöchheim\, 97209\, Deutschland
ATTACH;FMTTYPE=image/jpeg:https://frankenmagisch.de/wp-content/uploads/2024/01/silly_billy.jpg
END:VEVENT
END:VCALENDAR