BEGIN:VCALENDAR
VERSION:2.0
PRODID:-//Magischer Zirkel Würzburg-Ansbach e.V. - FrankenMagisch - ECPv6.15.20//NONSGML v1.0//EN
CALSCALE:GREGORIAN
METHOD:PUBLISH
X-WR-CALNAME:Magischer Zirkel Würzburg-Ansbach e.V. - FrankenMagisch
X-ORIGINAL-URL:https://frankenmagisch.de
X-WR-CALDESC:Veranstaltungen für Magischer Zirkel Würzburg-Ansbach e.V. - FrankenMagisch
REFRESH-INTERVAL;VALUE=DURATION:PT1H
X-Robots-Tag:noindex
X-PUBLISHED-TTL:PT1H
BEGIN:VTIMEZONE
TZID:UTC
BEGIN:STANDARD
TZOFFSETFROM:+0000
TZOFFSETTO:+0000
TZNAME:UTC
DTSTART:20230101T000000
END:STANDARD
END:VTIMEZONE
BEGIN:VEVENT
DTSTART;TZID=UTC:20240530T190000
DTEND;TZID=UTC:20240530T220000
DTSTAMP:20260419T131336
CREATED:20240207T214206Z
LAST-MODIFIED:20240505T183755Z
UID:1018-1717095600-1717106400@frankenmagisch.de
SUMMARY:Christoph Borer "Inventum"
DESCRIPTION:Seine Theorien im Bereich der Zauberkunst sind bemerkenswert und dienen als Inspiration für zahlreiche Zauberkünstler. Nun kommt der Schweizer Zauberkünstler Christoph Borer mit seinem neuen Seminar zu uns nach Würzburg. \nIn seinem Seminar «Inventum» zeigt er sieben Kunststücke (einige ganz neu\, andere älter\, aber deutlich verbessert)\, die er alle im regelmässigen Laien-Programm vorführt. Allgemeine Zauberei und Mentalmagie\, hauptsächlich für Stand Up- und auch etwas für Close-Up-Zauberei. \nZusätzlich teilt er einige Gedanken zu den Grundthemen. Er erläutert\, wie man Kunststücke verbessen kann\, wie man sie an seinen eigenen Stil anpasst oder sogar ganz eigene Kunststücke erfindet. Natürlich beantwortet er auch Fragen zu diesen wichtigen Themen.\nGrundlage seines Seminars bildet sein neues Buch «Inventum». \n  \n\nWir treffen uns ab 18:15 zu einem gemütlichen Essen a la carte im Ratskeller Veitshöchheim und genießen danach das Seminar \nUm besser planen zu können\, ist eine Anmeldung erforderlich. Bitte per Mail an zirkelabende@frankenmagisch.de eine kurze Mitteilung schreiben oder hier das Kontaktformular ausfüllen\, das per Mail verschickt wird: \nBitte aktiviere JavaScript in deinem Browser\, um dieses Formular fertigzustellen.Name *VornameNachnameE-Mail-Adresse (Falls noch nicht bekannt\, bei Gästen)An folgenden Zirkelabenden nehme ich teil:16.04. Ballonzauber zwischen Kunst und KnallGerne kannst Du die Abende angeben\, an denen Du sicher kommst. Änderungen sind natürlich jederzeit möglich. Dazu bitte einfach hier erneut absenden oder eine Mail an Zirkelabende@frankenmagisch.deAbsenden
URL:https://frankenmagisch.de/zirkelabend/christoph-borer-inventum/
LOCATION:Ratskeller Veitshöchheim\, Erwin-Vornberger-Platz 3\, 97209 Veitshöchheim\, Veitshöchheim\, 97209\, Deutschland
ATTACH;FMTTYPE=image/jpeg:https://frankenmagisch.de/wp-content/uploads/2024/02/Borer_Seminartour.jpg
END:VEVENT
END:VCALENDAR