BEGIN:VCALENDAR
VERSION:2.0
PRODID:-//Magischer Zirkel Würzburg-Ansbach e.V. - FrankenMagisch - ECPv6.15.20//NONSGML v1.0//EN
CALSCALE:GREGORIAN
METHOD:PUBLISH
X-WR-CALNAME:Magischer Zirkel Würzburg-Ansbach e.V. - FrankenMagisch
X-ORIGINAL-URL:https://frankenmagisch.de
X-WR-CALDESC:Veranstaltungen für Magischer Zirkel Würzburg-Ansbach e.V. - FrankenMagisch
REFRESH-INTERVAL;VALUE=DURATION:PT1H
X-Robots-Tag:noindex
X-PUBLISHED-TTL:PT1H
BEGIN:VTIMEZONE
TZID:UTC
BEGIN:STANDARD
TZOFFSETFROM:+0000
TZOFFSETTO:+0000
TZNAME:UTC
DTSTART:20220101T000000
END:STANDARD
END:VTIMEZONE
BEGIN:VEVENT
DTSTART;TZID=UTC:20230522T190000
DTEND;TZID=UTC:20230522T220000
DTSTAMP:20260422T025843
CREATED:20230502T160247Z
LAST-MODIFIED:20230502T161325Z
UID:956-1684782000-1684792800@frankenmagisch.de
SUMMARY:Juan Luis Rubiales am 22.05.2023
DESCRIPTION:Die erstaunliche Stand-Up- und Close-Up-Magie eines der besten Zauberer Spaniens. Juan Luis Rubiales verrät in „OLÉ!“ (Das Seminar) seine Lieblingseffekte und seine am besten gehüteten Geheimnisse.\nDas Seminar findet in englischer Sprache statt und wird von unserem Mitglied Horlin live übersetzt \n  \nSeine unverwechselbare Interpretation klassischer Routinen lässt die verwirrendsten Zauberkunststücke entstehen\, welche Sie jemals sehen werden. In seinem Seminar zeigt er seine streng gehüteten Geheimnisse\, neue originelle Kunststücke\, überarbeitete klassische Nummern und eine Vielzahl an Routinen mit mehreren Höhepunkten\, die nie zuvor erklärt wurden. Sie werden tief in seinen visuellen Effekt eintauchen\, welche Sie und Ihre Zuschauer staunen lassen. Es ist die Art von Magie\, bei der man einfach nicht anders kann\, als zu lächeln\, wenn man sie sieht. \n„Bounce“ ist eine super lustige und innovative Technik\, um Spielkarten durch das Aufprallen eines Balls scheinbar aus dem Nichts erscheinen zu lassen. \nSie werden auch sein „Debajo“ lernen\, was spanisch für „unter“ ist. Bei diesem erstaunlichen Trick landen vier Objekte unter vier genannten Karten. Vernon sagte oft\, dass ein guter Trick leicht zu beschreiben sei. Also nun… Sie machen vier einfache Wetten. Sie entfernen 4 Karten und legen sie auf den Tisch. Nun bitte Sie Ihren Zuschauer zu erraten\, um welche Karten es sich handelt. Sie setzen ein paar Münzen\, dann 20 Dollar und dann Ihr Haus. Die vier Karten stimmen nicht nur genau mit der Vermutung des Zuschauers überein\, unter jeder Karte liegt auch der Gegenstand\, den Sie gesetzt haben. Eine Viertel Dollar Münze\, eine halbe Dollar Münze\, ein 20-Dollar-Schein und schließlich Ihr Hausschlüssel. \nJuan Luis Rubiales erklärt klare\, starke wundersame Magie\, die Sie gerne zeigen werden. Auspacken\, vorführen!\nEine weitere Technik\, die Sie in diesem Seminar lernen werden\, ist The TPChange. Eine neue Technik mit unendlichen Möglichkeiten! Sie können Bild- und Rückseite von Spielkarten ändern\, Forcierkarten oder Positionen erzwingen und vieles mehr und das alles ohne Gimmicks. Reine Fingerfertigkeit. Einer der klügsten und saubersten Bewegungen\, die Sie je gesehen haben! \nEs gibt noch einige weitere Close-Up-Effekte\, die Sie in diesem Seminar lernen werden\, aber Juan wird Ihnen vier innovative Routinen beibringen\, bei denen er Lebensmittel anstelle der üblichen Requisiten eines Zauberers verwendet. Seine Routinen beinhalten eine Menge Publikumsbeteiligung und viele lustige Momente. Sie werden definitiv ein paar dieser Routinen in Ihren Shows verwenden! \nEine Hinweis von Eric Mead… „Achten Sie genau darauf\, wenn mein Freund Juan Luis Rubiales zu zaubern und zu erzählen beginnt. Wunderbare Originalmagie\, präsentiert mit großer Leidenschaft und echter Menschlichkeit\, die durch alles hindurchscheint. Ein Abend mit JuanLu ist ein Genuss\, den Sie sich nicht entgehen lassen sollten.“ \nEin Geständnis von Paul Wilson… „JuanLu war einst eines der am besten gehüteten Geheimnisse Spaniens. Es ist immer wieder eine Freude\, eine solche Fülle origineller\, magischer Ideen zu sehen. Verpassen Sie nicht Ihre Chance\, seine Ideen und seine Vorstellungskraft zu erkunden.“ \nWas die Größten über „Juan Luis Rubiales OLÉ“ sagen…\n“Spectacular and commercial!” FRANCIS TABARY\n“Creative\, authentic and unique!” JUAN TAMARIZ\n„His magic is absolutely brilliant.” WILLIAM KALUSH\n„Juan is the kind of chef we need in magic. Smart\, funny\, and will fool the crap out you. Also\, best version of 3 fly I have seen yet! BRILLIANT!!!“ CHRIS KENNER \n  \n\nBitte aktiviere JavaScript in deinem Browser\, um dieses Formular fertigzustellen.Name *VornameNachnameE-Mail-Adresse (Falls noch nicht bekannt\, bei Gästen)An folgenden Zirkelabenden nehme ich teil:16.04. Ballonzauber zwischen Kunst und KnallGerne kannst Du die Abende angeben\, an denen Du sicher kommst. Änderungen sind natürlich jederzeit möglich. Dazu bitte einfach hier erneut absenden oder eine Mail an Zirkelabende@frankenmagisch.deAbsenden  \n 
URL:https://frankenmagisch.de/zirkelabend/juan-luis-rubiales-am-22-05-2023/
LOCATION:Bergwirt Herrieden\, Schernberg 1\, Herrieden\, Bayern\, 91567\, Deutschland
END:VEVENT
END:VCALENDAR