BEGIN:VCALENDAR
VERSION:2.0
PRODID:-//Magischer Zirkel Würzburg-Ansbach e.V. - FrankenMagisch - ECPv6.15.20//NONSGML v1.0//EN
CALSCALE:GREGORIAN
METHOD:PUBLISH
X-WR-CALNAME:Magischer Zirkel Würzburg-Ansbach e.V. - FrankenMagisch
X-ORIGINAL-URL:https://frankenmagisch.de
X-WR-CALDESC:Veranstaltungen für Magischer Zirkel Würzburg-Ansbach e.V. - FrankenMagisch
REFRESH-INTERVAL;VALUE=DURATION:PT1H
X-Robots-Tag:noindex
X-PUBLISHED-TTL:PT1H
BEGIN:VTIMEZONE
TZID:UTC
BEGIN:STANDARD
TZOFFSETFROM:+0000
TZOFFSETTO:+0000
TZNAME:UTC
DTSTART:20220101T000000
END:STANDARD
END:VTIMEZONE
BEGIN:VEVENT
DTSTART;TZID=UTC:20230615T190000
DTEND;TZID=UTC:20230615T213000
DTSTAMP:20260422T011737
CREATED:20230220T195950Z
LAST-MODIFIED:20230502T161149Z
UID:924-1686855600-1686864600@frankenmagisch.de
SUMMARY:Juno im Juni "Auf der sicheren Seide"
DESCRIPTION:Zirka 15 Minuten beste Zauberunterhaltung. \nDas komplette Programm\, mit Klassikern der Tuchzauberkunst. \neinfach – effektvoll – praktisch – unterhaltsam – vielseitig \nEs liegt auf der Hand\, warum Zauberkünstler so unzählige Kunststücke und Varianten mit Tüchern kreiert\nhaben: \nTücher sind:\n– auf kleinstem Raum zu verstauen\n– entfalten sich dennoch zu einem großen Volumen\n– in allen nur denkbaren Farben erhältlich\n– sehr weit zu sehen\n– flexibel und weich\n– den Zuschauern vertraut und kein spezielles Requisit. \n  \nMan kann sie: verknoten\, entknoten\, zerschneiden und wiederherstellen\, verbinden\, verfärben\, durchdringen\noder schweben und tanzen\, erscheinen und verschwinden lassen und vieles mehr. \nAußerdem sind sie hervorragend geeignet als Hilfsmittel:\nZum bedecken\, verstecken\, verschönern oder um z.B. Gegenstände daraus verschwinden oder erscheinen zu lassen.\nWen wundert es also\, dass so umfassende Zauberliteratur\, wie z.B. Harold Rice’s „Encyclopedia of Silk Magic“\ngeschrieben wurde und sich nach wie vor einer großen Leserschaft erfreut. \nJunos Tücher-Seminar widmet sich den Tücher-Klassikern der Zauberkunst. Und diese Klassiker sind zu\nsolchen geworden weil sie nicht abhängig sind von der kurzlebigen Begeisterung für das Moderne\, sondern\ndurch unveränderte Qualität und Klasse bestanden haben. \nEr hat einige der schönsten dieser Klassiker zusammengefasst und zu einem kurzweiligen Zauberprogramm\nmit Tüchern vereint. Dabei legte er Wert auf einfache Techniken\, unkomplizierte Vorbereitungen\, starke\nEffekte und eine unterhaltsame Geschichte. Mehrere Zuschauer kommen dabei zum Einsatz. \nDas Programm enthält etliche Klimaxe und kann in verschiedene Teile separiert\, oder auch in Auszügen\nvorgeführt werden. \nZum Einsatz kommen lediglich sieben unpräparierte Tücher mit einem ansprechendem\, speziellem Design\,\nwelches viele Effekte einfacher und stärker in ihrer Wirkung macht. Die Tücher sind aus einem leichten\,\nfluffigen Material angefertigt\, welches trotzdem sehr stabil ist. Dieses glatte Material lässt bestimmte\nKnotentechniken kinderleicht wirken. \nGroße Teile des Programms gehen zurück auf eine Routine von Keith Clarke\, beschrieben in „A Silk Supreme“.\nJuno führt das Programm in der Art seit 25 Jahren vor. \nDie folgenden Klassiker und klassischen Techniken kommen darin zur Anwendung: \nErscheinender Blitzknoten (mit Zuschauerin)\nverschwindender Knotenspringender Knoten\nanimierter Tuchzipfel\nGagtücherfärbung (nach Keith Clarke)\nTuchtrio mit Hosentaschendurchdringung\nGoldinscher Tüchertrick (mit zwei Zuschauern) \nInhaltlich geht es dabei\, wie auch in seinen anderen Seminaren\, um einen bunten Querschnitt durch die\nunterschiedlichen Aspekte unserer Kunst. Auch verschiedene manipulative Techniken werden zur Anwendung\nkommen.\nEin Juno-Seminar wäre nicht echt ohne sein Lieblingsthema: Die Bühnenfigur. Drum gibt es natürlich auch\nwieder Gedanken und Anregungen zur Theorie. \nBitte aktiviere JavaScript in deinem Browser\, um dieses Formular fertigzustellen.Name *VornameNachnameE-Mail-Adresse (Falls noch nicht bekannt\, bei Gästen)An folgenden Zirkelabenden nehme ich teil:16.04. Ballonzauber zwischen Kunst und KnallGerne kannst Du die Abende angeben\, an denen Du sicher kommst. Änderungen sind natürlich jederzeit möglich. Dazu bitte einfach hier erneut absenden oder eine Mail an Zirkelabende@frankenmagisch.deAbsenden
URL:https://frankenmagisch.de/zirkelabend/juno-im-juni-auf-der-sicheren-seide/
LOCATION:Hotel Lamm in Höchberg\, Hauptstrasse 76\, Höchberg\, Bayern\, 97204\, Deutschland
END:VEVENT
END:VCALENDAR